BEGIN:VCALENDAR
VERSION:2.0
PRODID:-//hanautaweb - ECPv5.0.0.1//NONSGML v1.0//EN
CALSCALE:GREGORIAN
METHOD:PUBLISH
X-WR-CALNAME:hanautaweb
X-ORIGINAL-URL:http://hanautaweb.info
X-WR-CALDESC:hanautaweb のイベント
BEGIN:VTIMEZONE
TZID:Asia/Tokyo
BEGIN:STANDARD
TZOFFSETFROM:+0900
TZOFFSETTO:+0900
TZNAME:JST
DTSTART:20170101T000000
END:STANDARD
END:VTIMEZONE
BEGIN:VEVENT
DTSTART;TZID=Asia/Tokyo:20171004T190000
DTEND;TZID=Asia/Tokyo:20171004T190000
DTSTAMP:20260423T105228
CREATED:20171002T221815Z
LAST-MODIFIED:20171002T221815Z
UID:2700-1507143600-1507143600@hanautaweb.info
SUMMARY:Night Cafe & hanauta music vo.17
DESCRIPTION: \n毎月第一水曜の夜に行われる演奏会。\n楽しいおしゃべりもグラスをかさねる音も全て音楽となります。\n時間を分けて生演奏をしておりますのでいつ来ていただいてもいつ帰っていただいても大丈夫です。\n月に一度の贅沢な時間。是非お楽しみくださいませ。 \n◎演奏(19:00頃から）\n「Multi purpose studio」\n鈴木雄大(トランペット)\n佐藤郁夫(ギター)\n加藤禎哉(ベース)\n諸越俊玲(ドラム) \n◎チャージ\n￥1000 \n
URL:http://hanautaweb.info/event/20171004_01/
LOCATION:café pour deux\, 秋田市中通2-1-22 2F
CATEGORIES:音楽
END:VEVENT
END:VCALENDAR