BEGIN:VCALENDAR
VERSION:2.0
PRODID:-//hanautaweb - ECPv5.0.0.1//NONSGML v1.0//EN
CALSCALE:GREGORIAN
METHOD:PUBLISH
X-WR-CALNAME:hanautaweb
X-ORIGINAL-URL:http://hanautaweb.info
X-WR-CALDESC:hanautaweb のイベント
BEGIN:VTIMEZONE
TZID:Asia/Tokyo
BEGIN:STANDARD
TZOFFSETFROM:+0900
TZOFFSETTO:+0900
TZNAME:JST
DTSTART:20170101T000000
END:STANDARD
END:VTIMEZONE
BEGIN:VEVENT
DTSTART;TZID=Asia/Tokyo:20170109T140000
DTEND;TZID=Asia/Tokyo:20170109T140000
DTSTAMP:20260421T121829
CREATED:20161227T113010Z
LAST-MODIFIED:20170107T042259Z
UID:2248-1483970400-1483970400@hanautaweb.info
SUMMARY:GAME OF DEATH 19周年 ＠ 1/9 CLUB SWINDLE
DESCRIPTION: \n \n《OPEN / START》14：00 \n《TICKET（いずれも１ドリンク別）》\n・一公演前売券：1\,000円\n・一公演当日券：1\,500円\n・全公演通し券：2\,000円\n※他開催日のチケット（半券可）提示で当日券500円\n※フライヤー持参で前売料金で入場可\n★高校生以下は全公演無料（身分証明書提示、１ドリンク別） \n英心 & the friendsに下記予約フォームよりご予約、また当日バンドの名前を言って入場いただいた方に、昨年も大好評の恒例の英心特製・冬に効くセレクトCD、「Snow Mood Vol.2」をプレゼント（先着10名）！！！ \n\n◎メールフォームでのご予約\nメールフォーム http://hanautaweb.info/contact/ から下記内容を記載の上お申込みください。\n—————\n題名：GOD　英心 & the friends予約\nメッセージ本文：日時・会場／お名前／ご連絡先電話番号／数／\n—————\n受付完了後、予約完了メールをお送りします。\n※ 「メールアドレス」欄に入力されたアドレスに予約完了メールをお送りします。\n※ 1週間を経過して予約完了メールが届かない場合は、 お手数ですが再度ご連絡下さい。 \n\nーーーーーーーーーーーーーーーーーーーーーーーーー \n《LIVE ACT 》\n・S.C.B\n・ザ・ヘルシーバルカンズ\n・FREE CROSS\n・HEEL AND TOE\n・WEED\n・英心 & The Friends\n・Watanabeach!\n・THE TWISTED SKELTERZ\n・ヒラク\n・Howling With Pain\n・ヒト×ヒト\n・砂丘\n・中川正太朗\n・ちぇす\n《4DAYS DJ ACT》\n・秋田スリム（LONG TALL RECORDS）\n・S×U×D×A\n・Macochu!!!（FRIED）\n・ミウラジュン\n・Ryoppy（Hold Out Hope）\n・いっせい（RAW POWER）\n・のぞみ＠めろぶり\n・エガワマナ（ヒラク）\n・あっつん\n・Billyken（GAME OF DEATH） \n《4DAYS PHOTO WORKS》\n・Luka Tase（音撮）\n・おぎおぎ\n・アイバゲンキ（Global tab） \n
URL:http://hanautaweb.info/event/20170109_01/
LOCATION:Club SWINDLE\, 秋田市大町2丁目2-3ホテルパールシティ秋田竿燈大通りB1F
CATEGORIES:音楽フェスティバル
ATTACH;FMTTYPE=image/jpeg:http://hanautaweb.info/wp/wp-content/uploads/2016/12/e0314002_11131242.jpg
END:VEVENT
END:VCALENDAR