BEGIN:VCALENDAR
VERSION:2.0
PRODID:-//hanautaweb - ECPv5.0.0.1//NONSGML v1.0//EN
CALSCALE:GREGORIAN
METHOD:PUBLISH
X-WR-CALNAME:hanautaweb
X-ORIGINAL-URL:http://hanautaweb.info
X-WR-CALDESC:hanautaweb のイベント
BEGIN:VTIMEZONE
TZID:Asia/Tokyo
BEGIN:STANDARD
TZOFFSETFROM:+0900
TZOFFSETTO:+0900
TZNAME:JST
DTSTART:20160101T000000
END:STANDARD
END:VTIMEZONE
BEGIN:VEVENT
DTSTART;TZID=Asia/Tokyo:20161207T180000
DTEND;TZID=Asia/Tokyo:20161207T220000
DTSTAMP:20260419T125603
CREATED:20161130T082156Z
LAST-MODIFIED:20161130T155101Z
UID:2219-1481133600-1481148000@hanautaweb.info
SUMMARY:Night Cafe & hanauta music vol.7
DESCRIPTION: \n毎月第一水曜の夜に行われる演奏会。\n楽しいおしゃべりもグラスをかさねる音も全て音楽となります。時間を分けて生演奏をしておりますのでいつ来ていただいてもいつ帰っていただいても大丈夫です。 \n今回はクリスマス。\nクリスマスソングは本当に素敵な曲ばかりなのでここぞとばかりに様々お届けしたいと思います。（12月にしか演奏できないのがもったいない！！）\n月に一度の贅沢な時間。是非お楽しみくださいませ。 \n《MC》800円（ドリンク別途）\n《演奏》Multi purpose studio\n・鈴木雄大（トランペット、他）\n・石川真由子（フルート、他）\n・佐藤郁夫（ギター） \n
URL:http://hanautaweb.info/event/20161207_01/
LOCATION:café pour deux\, 秋田市中通2-1-22 2F
CATEGORIES:音楽
ATTACH;FMTTYPE=image/jpeg:http://hanautaweb.info/wp/wp-content/uploads/2016/11/15317841_1226009564136284_6621538368461796358_n.jpg
END:VEVENT
END:VCALENDAR