BEGIN:VCALENDAR
VERSION:2.0
PRODID:-//hanautaweb - ECPv5.0.0.1//NONSGML v1.0//EN
CALSCALE:GREGORIAN
METHOD:PUBLISH
X-WR-CALNAME:hanautaweb
X-ORIGINAL-URL:http://hanautaweb.info
X-WR-CALDESC:hanautaweb のイベント
BEGIN:VTIMEZONE
TZID:Asia/Tokyo
BEGIN:STANDARD
TZOFFSETFROM:+0900
TZOFFSETTO:+0900
TZNAME:JST
DTSTART:20160101T000000
END:STANDARD
END:VTIMEZONE
BEGIN:VEVENT
DTSTART;TZID=Asia/Tokyo:20161204T190000
DTEND;TZID=Asia/Tokyo:20161204T190000
DTSTAMP:20260423T092856
CREATED:20161122T030619Z
LAST-MODIFIED:20161122T030619Z
UID:2195-1480878000-1480878000@hanautaweb.info
SUMMARY: 土濃塚隆一郎 Xmas Live
DESCRIPTION:土濃塚隆一郎 (flh)\n柳準一 (p)\n山内陽一朗 (dr)\nOpen: 18:30 Start: 19:00\nCharge 前売：￥3\,500、当日：￥4\,000、学生：￥2\,000 (ドリンク別） \n
URL:http://hanautaweb.info/event/20161204_01/
LOCATION:カフェ・ブルージュ\, 秋田県秋田市南通築地6-17
CATEGORIES:音楽
END:VEVENT
END:VCALENDAR