BEGIN:VCALENDAR
VERSION:2.0
PRODID:-//hanautaweb - ECPv5.0.0.1//NONSGML v1.0//EN
CALSCALE:GREGORIAN
METHOD:PUBLISH
X-WR-CALNAME:hanautaweb
X-ORIGINAL-URL:http://hanautaweb.info
X-WR-CALDESC:hanautaweb のイベント
BEGIN:VTIMEZONE
TZID:Asia/Tokyo
BEGIN:STANDARD
TZOFFSETFROM:+0900
TZOFFSETTO:+0900
TZNAME:JST
DTSTART:20150101T000000
END:STANDARD
END:VTIMEZONE
BEGIN:VEVENT
DTSTART;TZID=Asia/Tokyo:20150527T193000
DTEND;TZID=Asia/Tokyo:20150527T193000
DTSTAMP:20260421T110651
CREATED:20150324T034153Z
LAST-MODIFIED:20150324T034153Z
UID:1054-1432755000-1432755000@hanautaweb.info
SUMMARY:日野皓正 Special Quintet
DESCRIPTION:
URL:http://hanautaweb.info/event/201500527_01/
LOCATION:THE CAT WALK\, 秋田県秋田市大町3-4-11ハイクリエイトNKビルB1
CATEGORIES:音楽
END:VEVENT
END:VCALENDAR