BEGIN:VCALENDAR
VERSION:2.0
PRODID:-//hanautaweb - ECPv5.0.0.1//NONSGML v1.0//EN
CALSCALE:GREGORIAN
METHOD:PUBLISH
X-WR-CALNAME:hanautaweb
X-ORIGINAL-URL:http://hanautaweb.info
X-WR-CALDESC:hanautaweb のイベント
BEGIN:VTIMEZONE
TZID:Asia/Tokyo
BEGIN:STANDARD
TZOFFSETFROM:+0900
TZOFFSETTO:+0900
TZNAME:JST
DTSTART:20140101T000000
END:STANDARD
END:VTIMEZONE
BEGIN:VEVENT
DTSTART;TZID=Asia/Tokyo:20141207T170000
DTEND;TZID=Asia/Tokyo:20141207T170000
DTSTAMP:20260423T194036
CREATED:20141108T023240Z
LAST-MODIFIED:20141110T070507Z
UID:665-1417971600-1417971600@hanautaweb.info
SUMMARY:堀秀彰＆本川悠平　冬のDUOツアーfeat.名雪祥代（as）今村陽太郎（ds）
DESCRIPTION: \n堀秀彰（ピアノ）、本川悠平（ベース）、名雪祥代（アルトサックス）、今村陽太郎（ドラム） \n
URL:http://hanautaweb.info/event/20141207_01/
LOCATION:Jazz inn Relaxin’\, 宮城県仙台市青葉区一番町２－７－３サンモール日泉ビル４Ｆ 
CATEGORIES:音楽
ATTACH;FMTTYPE=image/jpeg:http://hanautaweb.info/wp/wp-content/uploads/2014/10/演奏会チラシ入稿用データ.jpg
END:VEVENT
END:VCALENDAR